BEGIN:VCALENDAR
VERSION:2.0
PRODID:-//SV Dürmentingen - ECPv6.15.20//NONSGML v1.0//EN
CALSCALE:GREGORIAN
METHOD:PUBLISH
X-ORIGINAL-URL:https://www.sv-duermentingen.de
X-WR-CALDESC:Veranstaltungen für SV Dürmentingen
REFRESH-INTERVAL;VALUE=DURATION:PT1H
X-Robots-Tag:noindex
X-PUBLISHED-TTL:PT1H
BEGIN:VTIMEZONE
TZID:Europe/Berlin
BEGIN:DAYLIGHT
TZOFFSETFROM:+0100
TZOFFSETTO:+0200
TZNAME:CEST
DTSTART:20250330T010000
END:DAYLIGHT
BEGIN:STANDARD
TZOFFSETFROM:+0200
TZOFFSETTO:+0100
TZNAME:CET
DTSTART:20251026T010000
END:STANDARD
BEGIN:DAYLIGHT
TZOFFSETFROM:+0100
TZOFFSETTO:+0200
TZNAME:CEST
DTSTART:20260329T010000
END:DAYLIGHT
BEGIN:STANDARD
TZOFFSETFROM:+0200
TZOFFSETTO:+0100
TZNAME:CET
DTSTART:20261025T010000
END:STANDARD
BEGIN:DAYLIGHT
TZOFFSETFROM:+0100
TZOFFSETTO:+0200
TZNAME:CEST
DTSTART:20270328T010000
END:DAYLIGHT
BEGIN:STANDARD
TZOFFSETFROM:+0200
TZOFFSETTO:+0100
TZNAME:CET
DTSTART:20271031T010000
END:STANDARD
END:VTIMEZONE
BEGIN:VEVENT
DTSTART;VALUE=DATE:20260612
DTEND;VALUE=DATE:20260614
DTSTAMP:20260422T134203
CREATED:20250812T185056Z
LAST-MODIFIED:20250812T185056Z
UID:6698-1781222400-1781395199@www.sv-duermentingen.de
SUMMARY:DFB Basis-Coach
DESCRIPTION:
URL:https://www.sv-duermentingen.de/event/dfb-basis-coach/
END:VEVENT
BEGIN:VEVENT
DTSTART;TZID=Europe/Berlin:20260612T080000
DTEND;TZID=Europe/Berlin:20260613T170000
DTSTAMP:20260422T134203
CREATED:20251222T092657Z
LAST-MODIFIED:20251222T092657Z
UID:6771-1781251200-1781370000@www.sv-duermentingen.de
SUMMARY:DFB Basis-Coach (Lehrgang)
DESCRIPTION:
URL:https://www.sv-duermentingen.de/event/dfb-basis-coach-lehrgang/
END:VEVENT
BEGIN:VEVENT
DTSTART;VALUE=DATE:20260626
DTEND;VALUE=DATE:20260628
DTSTAMP:20260422T134203
CREATED:20250812T185210Z
LAST-MODIFIED:20250812T185210Z
UID:6700-1782432000-1782604799@www.sv-duermentingen.de
SUMMARY:DFB Basis-Coach
DESCRIPTION:
URL:https://www.sv-duermentingen.de/event/dfb-basis-coach-2/
END:VEVENT
BEGIN:VEVENT
DTSTART;TZID=Europe/Berlin:20260626T080000
DTEND;TZID=Europe/Berlin:20260627T170000
DTSTAMP:20260422T134203
CREATED:20251222T092744Z
LAST-MODIFIED:20251222T092813Z
UID:6773-1782460800-1782579600@www.sv-duermentingen.de
SUMMARY:DFB Basis-Coach (Lehrgang)
DESCRIPTION:
URL:https://www.sv-duermentingen.de/event/dfb-basis-coach-lehrgang-2/
END:VEVENT
END:VCALENDAR